BEGIN:VCALENDAR
VERSION:2.0
PRODID:-//Lietuvos ūkininkų sąjunga - ECPv6.15.20//NONSGML v1.0//EN
CALSCALE:GREGORIAN
METHOD:PUBLISH
X-ORIGINAL-URL:https://lus.lt
X-WR-CALDESC:Lietuvos ūkininkų sąjunga renginiai
REFRESH-INTERVAL;VALUE=DURATION:PT1H
X-Robots-Tag:noindex
X-PUBLISHED-TTL:PT1H
BEGIN:VTIMEZONE
TZID:Europe/Vilnius
BEGIN:DAYLIGHT
TZOFFSETFROM:+0200
TZOFFSETTO:+0300
TZNAME:EEST
DTSTART:20240331T010000
END:DAYLIGHT
BEGIN:STANDARD
TZOFFSETFROM:+0300
TZOFFSETTO:+0200
TZNAME:EET
DTSTART:20241027T010000
END:STANDARD
BEGIN:DAYLIGHT
TZOFFSETFROM:+0200
TZOFFSETTO:+0300
TZNAME:EEST
DTSTART:20250330T010000
END:DAYLIGHT
BEGIN:STANDARD
TZOFFSETFROM:+0300
TZOFFSETTO:+0200
TZNAME:EET
DTSTART:20251026T010000
END:STANDARD
BEGIN:DAYLIGHT
TZOFFSETFROM:+0200
TZOFFSETTO:+0300
TZNAME:EEST
DTSTART:20260329T010000
END:DAYLIGHT
BEGIN:STANDARD
TZOFFSETFROM:+0300
TZOFFSETTO:+0200
TZNAME:EET
DTSTART:20261025T010000
END:STANDARD
END:VTIMEZONE
BEGIN:VEVENT
DTSTART;TZID=Europe/Vilnius:20250520T093000
DTEND;TZID=Europe/Vilnius:20250520T110000
DTSTAMP:20260424T154325
CREATED:20250519T182958Z
LAST-MODIFIED:20250519T183112Z
UID:2927-1747733400-1747738800@lus.lt
SUMMARY:Žemdirbių akcija "ES kortų namas"
DESCRIPTION:Vilniuje prie ES Komisijos atstovybės. \nAkcijos manifestas
URL:https://lus.lt/veikla/zemdirbiu-akcija-es-kortu-namas/
END:VEVENT
END:VCALENDAR