BEGIN:VCALENDAR
VERSION:2.0
PRODID:-//Lietuvos ūkininkų sąjunga - ECPv6.15.20//NONSGML v1.0//EN
CALSCALE:GREGORIAN
METHOD:PUBLISH
X-ORIGINAL-URL:https://lus.lt
X-WR-CALDESC:Lietuvos ūkininkų sąjunga renginiai
REFRESH-INTERVAL;VALUE=DURATION:PT1H
X-Robots-Tag:noindex
X-PUBLISHED-TTL:PT1H
BEGIN:VTIMEZONE
TZID:Europe/Vilnius
BEGIN:DAYLIGHT
TZOFFSETFROM:+0200
TZOFFSETTO:+0300
TZNAME:EEST
DTSTART:20250330T010000
END:DAYLIGHT
BEGIN:STANDARD
TZOFFSETFROM:+0300
TZOFFSETTO:+0200
TZNAME:EET
DTSTART:20251026T010000
END:STANDARD
BEGIN:DAYLIGHT
TZOFFSETFROM:+0200
TZOFFSETTO:+0300
TZNAME:EEST
DTSTART:20260329T010000
END:DAYLIGHT
BEGIN:STANDARD
TZOFFSETFROM:+0300
TZOFFSETTO:+0200
TZNAME:EET
DTSTART:20261025T010000
END:STANDARD
BEGIN:DAYLIGHT
TZOFFSETFROM:+0200
TZOFFSETTO:+0300
TZNAME:EEST
DTSTART:20270328T010000
END:DAYLIGHT
BEGIN:STANDARD
TZOFFSETFROM:+0300
TZOFFSETTO:+0200
TZNAME:EET
DTSTART:20271031T010000
END:STANDARD
END:VTIMEZONE
BEGIN:VEVENT
DTSTART;TZID=Europe/Vilnius:20260111T110000
DTEND;TZID=Europe/Vilnius:20260111T170000
DTSTAMP:20260424T022510
CREATED:20251223T073451Z
LAST-MODIFIED:20251223T100948Z
UID:3543-1768129200-1768150800@lus.lt
SUMMARY:JUBILIEJINIS DRAUGIŠKAS ŪKININKŲ KREPŠINIO TURNYRAS 3 X 3
DESCRIPTION:LAISVĖS GYNĖJŲ DIENOS PROGA KĖDAINIŲ KRAŠTO ŪKININKŲ SĄJUNGA KREPŠINIO MYLĖTOJUS JAU 10 KARTĄ KVIEČIA SUSITIKTI KREPŠINIO AIKŠTELĖJE \n \nKVIEČIAME DALYVAUTI DRAUGIŠKAME ŪKININKŲ KREPŠINIO TURNYRE 3 prieš 3  ALEKSANDRO STULGINSKIO (pereinamoji) TAUREI 2026 laimėti  \nSuburkite komandą (ar registruotis po 1\, komandas suformuosime) ir sudalyvaukite jau tradiciniame mūsų draugiškame krepšinio turnyre 3 prieš 3! \nTurnyras vyks 2026 m. sausio 11 d. (sekmadienį). \nKrepšinio turnyras skirtas Laivės gynėjų dienai paminėti! \nVieta – Kėdainių Arena \nTurnyro startas – 12.00 val. \nRenkamės nuo 11.00 val. Registracija iki 11.30 val.  apšilimas. \nKomandos startinis mokestis – 60\,00 Eur. \nDĖMESIO! Komandų registracija vyks iki 2026 m. sausio 8 d. 17.00 val. \nel. paštu: kedainiu.krasto.us@gmail.com;\nKontaktinis asmuo: Jūratė Jodeikienė\, tel.nr. +370 657 77014 \nTurnyre 3×3 gali dalyvauti: \n\nKKŪS nariai\, jų artimieji\, giminaičiai ir/ar darbuotojai.\nŽemdirbių Asociacijų suburtos komandos (nariai\, jų artimieji\, giminaičiai ir/ar darbuotojai).\nSocialinių ir verslo partnerių suformuotos komandos.\n\nKomandą daugiausiai sudaro 4 žaidėjai! \nTaip pat gali registruotis ir moterų komandos!!! \nKomandų registracija ir varžybų taisyklės: KĖDAINIŲ KRAŠTO ŪKININKŲ SĄJUNGOS A_STULGINSKIO TAURĖ 2026-NUOSTATAI
URL:https://lus.lt/veikla/jubiliejinis-draugiskas-ukininku-krepsinio-turnyras-3-x-3/
LOCATION:Kėdainių Arena\, Lithuania
END:VEVENT
END:VCALENDAR