BEGIN:VCALENDAR
VERSION:2.0
PRODID:-//Lietuvos ūkininkų sąjunga - ECPv6.15.20//NONSGML v1.0//EN
CALSCALE:GREGORIAN
METHOD:PUBLISH
X-WR-CALNAME:Lietuvos ūkininkų sąjunga
X-ORIGINAL-URL:https://lus.lt
X-WR-CALDESC:Lietuvos ūkininkų sąjunga renginiai
REFRESH-INTERVAL;VALUE=DURATION:PT1H
X-Robots-Tag:noindex
X-PUBLISHED-TTL:PT1H
BEGIN:VTIMEZONE
TZID:Europe/Vilnius
BEGIN:DAYLIGHT
TZOFFSETFROM:+0200
TZOFFSETTO:+0300
TZNAME:EEST
DTSTART:20240331T010000
END:DAYLIGHT
BEGIN:STANDARD
TZOFFSETFROM:+0300
TZOFFSETTO:+0200
TZNAME:EET
DTSTART:20241027T010000
END:STANDARD
BEGIN:DAYLIGHT
TZOFFSETFROM:+0200
TZOFFSETTO:+0300
TZNAME:EEST
DTSTART:20250330T010000
END:DAYLIGHT
BEGIN:STANDARD
TZOFFSETFROM:+0300
TZOFFSETTO:+0200
TZNAME:EET
DTSTART:20251026T010000
END:STANDARD
BEGIN:DAYLIGHT
TZOFFSETFROM:+0200
TZOFFSETTO:+0300
TZNAME:EEST
DTSTART:20260329T010000
END:DAYLIGHT
BEGIN:STANDARD
TZOFFSETFROM:+0300
TZOFFSETTO:+0200
TZNAME:EET
DTSTART:20261025T010000
END:STANDARD
END:VTIMEZONE
BEGIN:VEVENT
DTSTART;TZID=Europe/Vilnius:20250925T080000
DTEND;TZID=Europe/Vilnius:20250927T170000
DTSTAMP:20260424T071921
CREATED:20250915T065731Z
LAST-MODIFIED:20250915T131109Z
UID:3495-1758787200-1758992400@lus.lt
SUMMARY:Dalyvaujame parodoje "GYVULININKYSTĖ 2025"
DESCRIPTION:Rugsėjo 25–27 d. kviečiame apsilankyti parodoje „Gyvulininkystė 2025“\, kuri vyks VDU Žemės ūkio akademijoje (Universiteto g. 10B\, Akademija\, Kauno r.). \n„GYVULININKYSTĖ 2025“ – tai didžiausia veislinių ūkinių gyvūnų\, specializuotos technikos ir įrangos\, gyvulininkystės produktų ir paslaugų paroda Lietuvoje. \nParodoje lankytojų lauks: \n\nVeislinių žirgų\, triušių ir paukščių ekspozicijos su gyvūnų vertinimais\, demonstracijomis ir ekspertų komentarais;\nIšskirtinė 3 dienų įvairių veislių žirgų parodomoji programa;\nModerniausia gyvulininkystės technika ir inovacijos – robotizavimo sprendimai\, šėrimo sistemos\, mėšlo tvarkymo įranga ir dar daugiau;\nNaujausios žemės dirbimo technikos demonstracijos realiomis sąlygomis;\nSeminarai veislininkystės\, gyvūnų gerovės\, užkrečiamųjų ligų prevencijos ir kitomis aktualiomis temomis;\nĮvairių rūšių mėsos kepimas ir degustacijos su profesionaliais virtuvės meistrais;\nOžkų sūrio degustacijos;\nEdukacijos mažiesiems;\nLietuvos drožėjų grandininiais pjūklais dirbtuvės;\nTradicinė amatų ir sodinukų mugė.\n\nVisų parodos renginių lankymas – nemokamas. \nPROGRAMA LANKYTOJAMAS \nParodos darbo laikas: rugsėjo 25–26 d. (ketvirtadienį ir penktadienį) nuo 9 iki 17 val. ir rugsėjo 27 d. (šeštadienį) nuo 9 iki 16 val. \nIeškokite Lietuvos ūkininkų sąjungos stendo ir nepraleiskite progos pamatyti\, pabendrauti\, sužinoti\, paskanauti bei įsigyti!
URL:https://lus.lt/veikla/dalyvaujame-parodoje-gyvulininkyste-2025/
LOCATION:VDU ŽŪA\, Universiteto g. 10B\, Akademija\, Kauno r.
END:VEVENT
BEGIN:VEVENT
DTSTART;VALUE=DATE:20250930
DTEND;VALUE=DATE:20251003
DTSTAMP:20260424T071921
CREATED:20250930T104046Z
LAST-MODIFIED:20251001T104545Z
UID:3506-1759190400-1759449599@lus.lt
SUMMARY:ES ir Šiaurės Amerikos žemės ūkio lyderių konferencija
DESCRIPTION:Rugsėjo 30 – spalio 2 d.  dalyvaujame Komo mieste (Italija) Europos Sąjungos ir Šiaurės Amerikos valstybių (JAV\, Kanada\, Meksika) žemės ūkio lyderių konferencijoje. Lietuvos ūkininkų sąjungai renginyje šiemet atstovauja mūsų organizacijos vicepirmininkai Gedas Špakauskas ir Martynas Puidokas.
URL:https://lus.lt/veikla/es-ir-siaures-amerikos-zemes-ukio-lyderiu-konferencija/
LOCATION:Komo (Italija)\, Italy
END:VEVENT
END:VCALENDAR