BEGIN:VCALENDAR
VERSION:2.0
PRODID:-//Lietuvos ūkininkų sąjunga - ECPv6.15.20//NONSGML v1.0//EN
CALSCALE:GREGORIAN
METHOD:PUBLISH
X-WR-CALNAME:Lietuvos ūkininkų sąjunga
X-ORIGINAL-URL:https://lus.lt
X-WR-CALDESC:Lietuvos ūkininkų sąjunga renginiai
REFRESH-INTERVAL;VALUE=DURATION:PT1H
X-Robots-Tag:noindex
X-PUBLISHED-TTL:PT1H
BEGIN:VTIMEZONE
TZID:Europe/Vilnius
BEGIN:DAYLIGHT
TZOFFSETFROM:+0200
TZOFFSETTO:+0300
TZNAME:EEST
DTSTART:20250330T010000
END:DAYLIGHT
BEGIN:STANDARD
TZOFFSETFROM:+0300
TZOFFSETTO:+0200
TZNAME:EET
DTSTART:20251026T010000
END:STANDARD
BEGIN:DAYLIGHT
TZOFFSETFROM:+0200
TZOFFSETTO:+0300
TZNAME:EEST
DTSTART:20260329T010000
END:DAYLIGHT
BEGIN:STANDARD
TZOFFSETFROM:+0300
TZOFFSETTO:+0200
TZNAME:EET
DTSTART:20261025T010000
END:STANDARD
BEGIN:DAYLIGHT
TZOFFSETFROM:+0200
TZOFFSETTO:+0300
TZNAME:EEST
DTSTART:20270328T010000
END:DAYLIGHT
BEGIN:STANDARD
TZOFFSETFROM:+0300
TZOFFSETTO:+0200
TZNAME:EET
DTSTART:20271031T010000
END:STANDARD
END:VTIMEZONE
BEGIN:VEVENT
DTSTART;VALUE=DATE:20260206
DTEND;VALUE=DATE:20260207
DTSTAMP:20260423T225702
CREATED:20260128T110226Z
LAST-MODIFIED:20260128T110226Z
UID:3856-1770336000-1770422399@lus.lt
SUMMARY:Konkurso "Metų ūkis 2026" apdovanojimai
DESCRIPTION:
URL:https://lus.lt/veikla/konkurso-metu-ukis-2026-apdovanojimai/
LOCATION:Kėdainių Arena\, Lithuania
END:VEVENT
BEGIN:VEVENT
DTSTART;TZID=Europe/Vilnius:20260228T100000
DTEND;TZID=Europe/Vilnius:20260228T170000
DTSTAMP:20260423T225702
CREATED:20260128T110728Z
LAST-MODIFIED:20260128T110728Z
UID:3859-1772272800-1772298000@lus.lt
SUMMARY:Šakių rajono ūkininkų sąjungos visuotinis narių susirinkimas
DESCRIPTION:
URL:https://lus.lt/veikla/sakiu-rajono-ukininku-sajungos-visuotinis-nariu-susirinkimas/
LOCATION:Lukšių kultūros centras
END:VEVENT
END:VCALENDAR