BEGIN:VCALENDAR
VERSION:2.0
PRODID:-//Lietuvos ūkininkų sąjunga - ECPv6.15.20//NONSGML v1.0//EN
CALSCALE:GREGORIAN
METHOD:PUBLISH
X-WR-CALNAME:Lietuvos ūkininkų sąjunga
X-ORIGINAL-URL:https://lus.lt
X-WR-CALDESC:Lietuvos ūkininkų sąjunga renginiai
REFRESH-INTERVAL;VALUE=DURATION:PT1H
X-Robots-Tag:noindex
X-PUBLISHED-TTL:PT1H
BEGIN:VTIMEZONE
TZID:Europe/Vilnius
BEGIN:DAYLIGHT
TZOFFSETFROM:+0200
TZOFFSETTO:+0300
TZNAME:EEST
DTSTART:20240331T010000
END:DAYLIGHT
BEGIN:STANDARD
TZOFFSETFROM:+0300
TZOFFSETTO:+0200
TZNAME:EET
DTSTART:20241027T010000
END:STANDARD
BEGIN:DAYLIGHT
TZOFFSETFROM:+0200
TZOFFSETTO:+0300
TZNAME:EEST
DTSTART:20250330T010000
END:DAYLIGHT
BEGIN:STANDARD
TZOFFSETFROM:+0300
TZOFFSETTO:+0200
TZNAME:EET
DTSTART:20251026T010000
END:STANDARD
BEGIN:DAYLIGHT
TZOFFSETFROM:+0200
TZOFFSETTO:+0300
TZNAME:EEST
DTSTART:20260329T010000
END:DAYLIGHT
BEGIN:STANDARD
TZOFFSETFROM:+0300
TZOFFSETTO:+0200
TZNAME:EET
DTSTART:20261025T010000
END:STANDARD
END:VTIMEZONE
BEGIN:VEVENT
DTSTART;TZID=Europe/Vilnius:20250523T100000
DTEND;TZID=Europe/Vilnius:20250523T235900
DTSTAMP:20260424T154934
CREATED:20250511T064844Z
LAST-MODIFIED:20250523T070652Z
UID:2953-1747994400-1748044740@lus.lt
SUMMARY:Kartingų varžybos Lietuvos ūkininkų sąjungos nariams
DESCRIPTION:Tradicinės Anykščių rajono Ūkininkų Sąjungos kartingų varžybos. Kviečiami visi Lietuvos ūkininkų sąjungos nariai. Maloniai kviečiame pasivaržyti ar tiesiog atvykti palaikyti kolegų. \nRenginio metu jūsų lauks vaišės\, geriausių vairuotojų apdovanojimai. \nDalyvių registracija iki gegužės 15 d.\, 15:00 val.
URL:https://lus.lt/veikla/kartingu-varzybos-lietuvos-ukininku-sajungos-nariams/
LOCATION:Anykščių kartodromas
ORGANIZER;CN="Anyk%C5%A1%C4%8Di%C5%B3 rajono %C5%ABkinink%C5%B3 s%C4%85junga":MAILTO:kartingai@aus.lt
END:VEVENT
BEGIN:VEVENT
DTSTART;TZID=Europe/Vilnius:20250520T093000
DTEND;TZID=Europe/Vilnius:20250520T110000
DTSTAMP:20260424T154934
CREATED:20250519T182958Z
LAST-MODIFIED:20250519T183112Z
UID:2927-1747733400-1747738800@lus.lt
SUMMARY:Žemdirbių akcija "ES kortų namas"
DESCRIPTION:Vilniuje prie ES Komisijos atstovybės. \nAkcijos manifestas
URL:https://lus.lt/veikla/zemdirbiu-akcija-es-kortu-namas/
END:VEVENT
BEGIN:VEVENT
DTSTART;TZID=Europe/Vilnius:20250516T110000
DTEND;TZID=Europe/Vilnius:20250516T150000
DTSTAMP:20260424T154934
CREATED:20250509T080015Z
LAST-MODIFIED:20250509T094351Z
UID:1958-1747393200-1747407600@lus.lt
SUMMARY:LŪS XXXIX-asis Suvažiavimas
DESCRIPTION:Suvažiavimas vyks VDU ŽŪA IV rūmuose.
URL:https://lus.lt/veikla/lus-xxxix-asis-suvaziavimas/
LOCATION:VDU ŽŪA\, Universiteto g. 10B\, Akademija\, Kauno r.
END:VEVENT
END:VCALENDAR